BEGIN:VCALENDAR
VERSION:2.0
PRODID:Magusto de S.Martinho
X-WR-CALNAME:Magusto de S.Martinho
X-WR-TIMEZONE:Europe/Lisbon
X-PUBLISHED-TTL:P1W
BEGIN:VTIMEZONE
TZID:Europe/Lisbon
X-LIC-LOCATION:Europe/Lisbon
END:VTIMEZONE
BEGIN:VEVENT
UID:69ecd81c1d494
DTSTART;VALUE=DATE:20221112
SEQUENCE:0
TRANSP:OPAQUE
DTEND;VALUE=DATE:20221113
SUMMARY:Magusto de S.Martinho
CLASS:PUBLIC
DESCRIPTION:Magusto de S. MartinhoSábado\, 12 de Novembro\, 16 horasAssoci
 ação Cultural e Desportiva de Valhascos
X-MICROSOFT-CDO-ALLDAYEVENT:TRUE
DTSTAMP:20260425T150500Z
END:VEVENT
END:VCALENDAR