BEGIN:VCALENDAR
VERSION:2.0
PRODID:Festas  Valhascos 2023
X-WR-CALNAME:Festas  Valhascos 2023
X-WR-TIMEZONE:Europe/Lisbon
X-PUBLISHED-TTL:P1W
BEGIN:VTIMEZONE
TZID:Europe/Lisbon
X-LIC-LOCATION:Europe/Lisbon
END:VTIMEZONE
BEGIN:VEVENT
UID:69ecd83069364
DTSTART;VALUE=DATE:20230908
SEQUENCE:0
TRANSP:OPAQUE
DTEND;VALUE=DATE:20230909
SUMMARY:Festas  Valhascos 2023
CLASS:PUBLIC
DESCRIPTION:Festas em honra Nossa Senhora da Graça
X-MICROSOFT-CDO-ALLDAYEVENT:TRUE
DTSTAMP:20260425T150520Z
END:VEVENT
END:VCALENDAR